BEGIN:VCALENDAR
VERSION:2.0
PRODID:-//eventon.com NONSGML v1.0//EN
CALSCALE:GREGORIAN
METHOD:PUBLISH
BEGIN:VEVENT
UID:69e7374563365
DTSTAMP:20260421T083725Z
DTSTART:20240208T180000Z
DTEND:20240208T210000Z
LOCATION:Salle des Fêtes de l’Université de la Sarre // Aula der Universität des Saarlandes | A3.3 Universität des Saarlandes
SUMMARY:Laisse chanter les filles
DESCRIPTION:Laisse chanter les filles Künstlerinnen des aktuellen französ
 ischen Chansons im Saarland08/02/2024: Konzert mit Lily Luca 19h | Aula der
  Universität des Saarlandes | A3.3 | 66123 SaarbrückenEintrittspreis: 12 
 € /4 € (ermäßigt) Kooperationspartner: Institut für Musikwissenschaf
 ten der Universität des Saarlandes\,  Union Stiftung Eine neue\,  junge Ch
 ansonszene gibt in Frankreich gerade[..]\nhttps://ief-saarbruecken.eu/event
 s/laisse-chanter-les-filles-7/
URL:https://ief-saarbruecken.eu/events/laisse-chanter-les-filles-7/
END:VEVENT
END:VCALENDAR